BEGIN:VCALENDAR
VERSION:2.0
PRODID:-//Underearners Anonymous - ECPv6.15.17.1//NONSGML v1.0//EN
CALSCALE:GREGORIAN
METHOD:PUBLISH
X-WR-CALNAME:Underearners Anonymous
X-ORIGINAL-URL:https://www.underearnersanonymous.org
X-WR-CALDESC:Events for Underearners Anonymous
REFRESH-INTERVAL;VALUE=DURATION:PT1H
X-Robots-Tag:noindex
X-PUBLISHED-TTL:PT1H
BEGIN:VTIMEZONE
TZID:America/New_York
BEGIN:DAYLIGHT
TZOFFSETFROM:-0500
TZOFFSETTO:-0400
TZNAME:EDT
DTSTART:20240310T070000
END:DAYLIGHT
BEGIN:STANDARD
TZOFFSETFROM:-0400
TZOFFSETTO:-0500
TZNAME:EST
DTSTART:20241103T060000
END:STANDARD
BEGIN:DAYLIGHT
TZOFFSETFROM:-0500
TZOFFSETTO:-0400
TZNAME:EDT
DTSTART:20250309T070000
END:DAYLIGHT
BEGIN:STANDARD
TZOFFSETFROM:-0400
TZOFFSETTO:-0500
TZNAME:EST
DTSTART:20251102T060000
END:STANDARD
BEGIN:DAYLIGHT
TZOFFSETFROM:-0500
TZOFFSETTO:-0400
TZNAME:EDT
DTSTART:20260308T070000
END:DAYLIGHT
BEGIN:STANDARD
TZOFFSETFROM:-0400
TZOFFSETTO:-0500
TZNAME:EST
DTSTART:20261101T060000
END:STANDARD
END:VTIMEZONE
BEGIN:VEVENT
DTSTART;TZID=America/New_York:20250126T150000
DTEND;TZID=America/New_York:20250126T163000
DTSTAMP:20260421T050429
CREATED:20241222T032113Z
LAST-MODIFIED:20250125T054222Z
UID:4263-1737903600-1737909000@www.underearnersanonymous.org
SUMMARY:UA GSB\, INC PUBLIC MONTHLY BUSINESS MEETING
DESCRIPTION:Greetings Fellow UA Members!\n\n\n\nPlease join us for the UA GSB\, Inc. Monthly Public Business Meeting\nHere is the Zoom link.\nMeeting Info:\nMeeting ID: 867 8145 9881\nPasscode: 445566\n\n\n\n\nU.A. GSB\, Inc. Monthly Public Business Meeting on the 4th Sunday of the month \nET time: 3:00 PM to 4:30 PM ET \nPAC Time: 12:00 PM to 1:30 PM PAC \nIn service\, \n\n\n\n\nSusan T.\, Chair\nJeff S.\, Vice-Chair\nMichael H.\, Vice-Chair\nRalph C.\, Vice-Chair\nBecky R.\, Secretary\nKarin T.\, Treasurer\n \nTo learn more about UA and to find a meeting click on the link below:\nhttps://www.underearnersanonymous.org/\n\n \nTo update or add a new meeting click this link New Meeting/Update Registration Form\n\n \nPlease note: The GSB cannot answer questions about a specific meeting. Please visit the meeting to ask questions related to any group. 
URL:https://www.underearnersanonymous.org/event/ua-gsb-inc-public-monthly-business-meeting/
END:VEVENT
END:VCALENDAR