BEGIN:VCALENDAR
VERSION:2.0
PRODID:-//Underearners Anonymous - ECPv6.15.17.1//NONSGML v1.0//EN
CALSCALE:GREGORIAN
METHOD:PUBLISH
X-ORIGINAL-URL:https://www.underearnersanonymous.org
X-WR-CALDESC:Events for Underearners Anonymous
REFRESH-INTERVAL;VALUE=DURATION:PT1H
X-Robots-Tag:noindex
X-PUBLISHED-TTL:PT1H
BEGIN:VTIMEZONE
TZID:America/New_York
BEGIN:DAYLIGHT
TZOFFSETFROM:-0500
TZOFFSETTO:-0400
TZNAME:EDT
DTSTART:20240310T070000
END:DAYLIGHT
BEGIN:STANDARD
TZOFFSETFROM:-0400
TZOFFSETTO:-0500
TZNAME:EST
DTSTART:20241103T060000
END:STANDARD
BEGIN:DAYLIGHT
TZOFFSETFROM:-0500
TZOFFSETTO:-0400
TZNAME:EDT
DTSTART:20250309T070000
END:DAYLIGHT
BEGIN:STANDARD
TZOFFSETFROM:-0400
TZOFFSETTO:-0500
TZNAME:EST
DTSTART:20251102T060000
END:STANDARD
BEGIN:DAYLIGHT
TZOFFSETFROM:-0500
TZOFFSETTO:-0400
TZNAME:EDT
DTSTART:20260308T070000
END:DAYLIGHT
BEGIN:STANDARD
TZOFFSETFROM:-0400
TZOFFSETTO:-0500
TZNAME:EST
DTSTART:20261101T060000
END:STANDARD
END:VTIMEZONE
BEGIN:VEVENT
DTSTART;TZID=America/New_York:20250216T163000
DTEND;TZID=America/New_York:20250216T173000
DTSTAMP:20260421T041810
CREATED:20250210T190400Z
LAST-MODIFIED:20250216T213822Z
UID:4300-1739723400-1739727000@www.underearnersanonymous.org
SUMMARY:Ad Hoc Communications & Outreach Committee (Conscious Communication with Serenity)
DESCRIPTION:Purpose:\n1. Developing and facilitating the skill of bringing the spirit of the St Francis Prayer (“seeking to understanld”) and fostering a degree of understanding and consideration of another’s point of view before one’s own. \n2. Best practices of hearing from the rank and file fellowship\, individual meetings to solidify the structure of the upside down triangle. What’s working\, what could be improved. \n  \nDial in to your country’s Zoom access number: \nMeeting ID 84792064224 \nPasscode: C&O
URL:https://www.underearnersanonymous.org/event/ad-hoc-communications-outreach-committee-conscious-communication-with-serenity/
CATEGORIES:Category Event
END:VEVENT
END:VCALENDAR